BEGIN:VCALENDAR
VERSION:2.0
PRODID:-//Whitefish Lake Golf Club - MT - ECPv6.15.20//NONSGML v1.0//EN
CALSCALE:GREGORIAN
METHOD:PUBLISH
X-ORIGINAL-URL:https://golfwhitefish.com
X-WR-CALDESC:Events for Whitefish Lake Golf Club - MT
REFRESH-INTERVAL;VALUE=DURATION:PT1H
X-Robots-Tag:noindex
X-PUBLISHED-TTL:PT1H
BEGIN:VTIMEZONE
TZID:UTC
BEGIN:STANDARD
TZOFFSETFROM:+0000
TZOFFSETTO:+0000
TZNAME:UTC
DTSTART:20250101T000000
END:STANDARD
END:VTIMEZONE
BEGIN:VEVENT
DTSTART;TZID=UTC:20261010T000000
DTEND;TZID=UTC:20261010T235959
DTSTAMP:20260420T114023
CREATED:20260109T200122Z
LAST-MODIFIED:20260122T184505Z
UID:10000014-1791590400-1791676799@golfwhitefish.com
SUMMARY:Tee Open
DESCRIPTION:Entries Open September 23rd
URL:https://golfwhitefish.com/event/tee-open/
CATEGORIES:Tournaments
END:VEVENT
END:VCALENDAR